BEGIN:VCALENDAR
VERSION:2.0
PRODID:-//荔枝成人app
//NONSGML Events //EN
CALSCALE:GREGORIAN
X-WR-CALNAME:荔枝成人app
BEGIN:VEVENT
CREATED:20260424T155934Z
UID:48368
DTEND;VALUE=DATE:20260525T180000
DTSTART;VALUE=DATE:20260525T160000
DTSTAMP:20260425T213707Z
LOCATION:Munk School of Global Affairs and Public Policy &\; Zoom
DESCRIPTION:
Book T
SUMMARY:Bill Graham Centre | Book Talk: Private Letters\, Public Matters: The Family Correspondence of Lester B. Pearson
ORGANIZER:荔枝成人app
URL;VALUE=URI:https://billgrahamcentre.utoronto.ca/events/book-talk-private-letters-public-matters-family-correspondence-lester-b-pearson
TRANSP:OPAQUE
BEGIN:VALARM
ACTION:DISPLAY
DESCRIPTION:Reminder for Bill Graham Centre | Book Talk: Private Letters\, Public Matters: The Family Correspondence of Lester B. Pearson
END:VALARM
END:VEVENT
END:VCALENDAR